BEGIN:VCALENDAR
VERSION:2.0
PRODID:-//Concerned Educators Against Forced Unionism - ECPv6.15.20//NONSGML v1.0//EN
CALSCALE:GREGORIAN
METHOD:PUBLISH
X-ORIGINAL-URL:http://ceafu.org
X-WR-CALDESC:Events for Concerned Educators Against Forced Unionism
REFRESH-INTERVAL;VALUE=DURATION:PT1H
X-Robots-Tag:noindex
X-PUBLISHED-TTL:PT1H
BEGIN:VTIMEZONE
TZID:America/New_York
BEGIN:DAYLIGHT
TZOFFSETFROM:-0500
TZOFFSETTO:-0400
TZNAME:EDT
DTSTART:20230312T070000
END:DAYLIGHT
BEGIN:STANDARD
TZOFFSETFROM:-0400
TZOFFSETTO:-0500
TZNAME:EST
DTSTART:20231105T060000
END:STANDARD
BEGIN:DAYLIGHT
TZOFFSETFROM:-0500
TZOFFSETTO:-0400
TZNAME:EDT
DTSTART:20240310T070000
END:DAYLIGHT
BEGIN:STANDARD
TZOFFSETFROM:-0400
TZOFFSETTO:-0500
TZNAME:EST
DTSTART:20241103T060000
END:STANDARD
BEGIN:DAYLIGHT
TZOFFSETFROM:-0500
TZOFFSETTO:-0400
TZNAME:EDT
DTSTART:20250309T070000
END:DAYLIGHT
BEGIN:STANDARD
TZOFFSETFROM:-0400
TZOFFSETTO:-0500
TZNAME:EST
DTSTART:20251102T060000
END:STANDARD
END:VTIMEZONE
BEGIN:VEVENT
DTSTART;TZID=America/New_York:20240814T120000
DTEND;TZID=America/New_York:20240814T123000
DTSTAMP:20260424T131023
CREATED:20240813T140502Z
LAST-MODIFIED:20240813T142419Z
UID:10000016-1723636800-1723638600@ceafu.org
SUMMARY:Pennsylvania Teachers\, looking for alternative to NEA and AFT labor unions?
DESCRIPTION:
URL:http://ceafu.org/event/pennsylvania-teachers-looking-for-alternative-to-nea-and-aft-labor-unions/
CATEGORIES:CEAFU Live Lunch Breaks,Online Conference
ATTACH;FMTTYPE=image/png:http://ceafu.org/wp-content/uploads/2024/08/Carol-Yeagy-–-KEYTA-1.png
END:VEVENT
END:VCALENDAR